BEGIN:VCALENDAR
VERSION:2.0
PRODID:-//Yukon Convention Bureau - ECPv6.15.20//NONSGML v1.0//EN
CALSCALE:GREGORIAN
METHOD:PUBLISH
X-WR-CALNAME:Yukon Convention Bureau
X-ORIGINAL-URL:https://staging.meetingsyukon.com
X-WR-CALDESC:Events for Yukon Convention Bureau
REFRESH-INTERVAL;VALUE=DURATION:PT1H
X-Robots-Tag:noindex
X-PUBLISHED-TTL:PT1H
BEGIN:VTIMEZONE
TZID:America/Whitehorse
BEGIN:STANDARD
TZOFFSETFROM:-0700
TZOFFSETTO:-0700
TZNAME:MST
DTSTART:20240101T000000
END:STANDARD
END:VTIMEZONE
BEGIN:VEVENT
DTSTART;VALUE=DATE:20250224
DTEND;VALUE=DATE:20250228
DTSTAMP:20260423T155909
CREATED:20250213T000453Z
LAST-MODIFIED:20250213T000453Z
UID:10000488-1740416400-1740632399@staging.meetingsyukon.com
SUMMARY:6th Annual First Nation Education Conference
DESCRIPTION:Whitehorse\, Yukon. \nThis year’s theme: Connecting Heart\, Hands and Head \nCONFERENCE \nWe have two full days of exciting\, interactive guest speakers and workshops\, including keynotes: Len Pierre (Coast Salish social activist\, professor\, TEDx Speaker\, change agent and traditional knowledge keeper)\, and Jo Chrona (educator\, speaker\, author of Wayi Wah! Indigenous Pedagogies: An act for Reconciliation and Anti-Racist Education and member of the Kitsumkalum First Nation). Check out the full agenda of speakers and breakout sessions below. Registration: no cost.
URL:https://staging.meetingsyukon.com/event/6th-annual-first-nation-education-conference/
LOCATION:Kwanlin Dun Cultural Centre\, Whitehorse\, Canada
END:VEVENT
END:VCALENDAR