BEGIN:VCALENDAR
VERSION:2.0
PRODID:-//Yukon Convention Bureau - ECPv6.15.20//NONSGML v1.0//EN
CALSCALE:GREGORIAN
METHOD:PUBLISH
X-ORIGINAL-URL:https://staging.meetingsyukon.com
X-WR-CALDESC:Events for Yukon Convention Bureau
REFRESH-INTERVAL;VALUE=DURATION:PT1H
X-Robots-Tag:noindex
X-PUBLISHED-TTL:PT1H
BEGIN:VTIMEZONE
TZID:America/Whitehorse
BEGIN:STANDARD
TZOFFSETFROM:-0700
TZOFFSETTO:-0700
TZNAME:MST
DTSTART:20240101T000000
END:STANDARD
END:VTIMEZONE
BEGIN:VEVENT
DTSTART;VALUE=DATE:20251115
DTEND;VALUE=DATE:20251121
DTSTAMP:20260423T030243
CREATED:20251117T234445Z
LAST-MODIFIED:20251117T234500Z
UID:10000421-1763226000-1763614799@staging.meetingsyukon.com
SUMMARY:Yukon Geoscience forum & Tradeshow
DESCRIPTION:Whitehorse\, Yukon \n 
URL:https://staging.meetingsyukon.com/event/yukon-geoscience-forum-tradeshow/
LOCATION:Kwanlin Dun Cultural Centre\, Whitehorse\, Canada
END:VEVENT
END:VCALENDAR