BEGIN:VCALENDAR
VERSION:2.0
PRODID:-//Yukon Convention Bureau - ECPv6.15.20//NONSGML v1.0//EN
CALSCALE:GREGORIAN
METHOD:PUBLISH
X-ORIGINAL-URL:https://staging.meetingsyukon.com
X-WR-CALDESC:Events for Yukon Convention Bureau
REFRESH-INTERVAL;VALUE=DURATION:PT1H
X-Robots-Tag:noindex
X-PUBLISHED-TTL:PT1H
BEGIN:VTIMEZONE
TZID:America/Whitehorse
BEGIN:STANDARD
TZOFFSETFROM:-0700
TZOFFSETTO:-0700
TZNAME:MST
DTSTART:20250101T000000
END:STANDARD
END:VTIMEZONE
BEGIN:VEVENT
DTSTART;VALUE=DATE:20260304
DTEND;VALUE=DATE:20260313
DTSTAMP:20260422T195919
CREATED:20250905T224250Z
LAST-MODIFIED:20250905T224250Z
UID:10000497-1772643600-1773291599@staging.meetingsyukon.com
SUMMARY:CBC Media - Arctic Winter Games
DESCRIPTION:Whitehorse\, Yukon \n11 delegates.
URL:https://staging.meetingsyukon.com/event/cbc-media-arctic-winter-games/
LOCATION:Quality Inn & Suites\, Whitehorse\, 2288 2nd Ave\,\, Whitehorse\, Yukon\, Canada
END:VEVENT
BEGIN:VEVENT
DTSTART;VALUE=DATE:20260307
DTEND;VALUE=DATE:20260317
DTSTAMP:20260422T195919
CREATED:20240116T042310Z
LAST-MODIFIED:20250410T085848Z
UID:10000474-1772902800-1773637199@staging.meetingsyukon.com
SUMMARY:2026 Arctic Winter Games
DESCRIPTION:Whitehorse\, Yukon.
URL:https://staging.meetingsyukon.com/event/2026-arctic-winter-games/
END:VEVENT
END:VCALENDAR