BEGIN:VCALENDAR
VERSION:2.0
PRODID:-//Yukon Convention Bureau - ECPv6.15.20//NONSGML v1.0//EN
CALSCALE:GREGORIAN
METHOD:PUBLISH
X-ORIGINAL-URL:https://staging.meetingsyukon.com
X-WR-CALDESC:Events for Yukon Convention Bureau
REFRESH-INTERVAL;VALUE=DURATION:PT1H
X-Robots-Tag:noindex
X-PUBLISHED-TTL:PT1H
BEGIN:VTIMEZONE
TZID:America/Whitehorse
BEGIN:STANDARD
TZOFFSETFROM:-0700
TZOFFSETTO:-0700
TZNAME:MST
DTSTART:20250101T000000
END:STANDARD
END:VTIMEZONE
BEGIN:VEVENT
DTSTART;VALUE=DATE:20260708
DTEND;VALUE=DATE:20260714
DTSTAMP:20260422T232846
CREATED:20250904T215311Z
LAST-MODIFIED:20250904T215311Z
UID:10000496-1783530000-1783918799@staging.meetingsyukon.com
SUMMARY:Canadian Parents for French Leaders Forum (CPF)
DESCRIPTION:Whitehorse\, Yukon. \n30 delegates.
URL:https://staging.meetingsyukon.com/event/canadian-parents-for-french-leaders-forum-cpf/
END:VEVENT
END:VCALENDAR