BEGIN:VCALENDAR
VERSION:2.0
PRODID:-//Yukon Convention Bureau - ECPv6.15.20//NONSGML v1.0//EN
CALSCALE:GREGORIAN
METHOD:PUBLISH
X-WR-CALNAME:Yukon Convention Bureau
X-ORIGINAL-URL:https://staging.meetingsyukon.com
X-WR-CALDESC:Events for Yukon Convention Bureau
REFRESH-INTERVAL;VALUE=DURATION:PT1H
X-Robots-Tag:noindex
X-PUBLISHED-TTL:PT1H
BEGIN:VTIMEZONE
TZID:America/Whitehorse
BEGIN:STANDARD
TZOFFSETFROM:-0700
TZOFFSETTO:-0700
TZNAME:MST
DTSTART:20250101T000000
END:STANDARD
END:VTIMEZONE
BEGIN:VEVENT
DTSTART;VALUE=DATE:20260721
DTEND;VALUE=DATE:20260727
DTSTAMP:20260422T232607
CREATED:20251015T025423Z
LAST-MODIFIED:20251015T025423Z
UID:10000504-1784653200-1785041999@staging.meetingsyukon.com
SUMMARY:Lawyers Financial Board Meeting
DESCRIPTION:15 Delegates. Whitehorse\, Yukon.
URL:https://staging.meetingsyukon.com/event/lawyers-financial-board-meeting/
END:VEVENT
END:VCALENDAR