BEGIN:VCALENDAR
VERSION:2.0
PRODID:-//Yukon Convention Bureau - ECPv6.15.20//NONSGML v1.0//EN
CALSCALE:GREGORIAN
METHOD:PUBLISH
X-ORIGINAL-URL:https://staging.meetingsyukon.com
X-WR-CALDESC:Events for Yukon Convention Bureau
REFRESH-INTERVAL;VALUE=DURATION:PT1H
X-Robots-Tag:noindex
X-PUBLISHED-TTL:PT1H
BEGIN:VTIMEZONE
TZID:America/Whitehorse
BEGIN:STANDARD
TZOFFSETFROM:-0700
TZOFFSETTO:-0700
TZNAME:MST
DTSTART:20250101T000000
END:STANDARD
END:VTIMEZONE
BEGIN:VEVENT
DTSTART;VALUE=DATE:20260506
DTEND;VALUE=DATE:20260509
DTSTAMP:20260422T175958
CREATED:20260316T144657Z
LAST-MODIFIED:20260316T144657Z
UID:10000506-1778025600-1778284799@staging.meetingsyukon.com
SUMMARY:Arctic Indigenous Investment Conference 2026
DESCRIPTION:Whitehorse\, Yukon \n 
URL:https://staging.meetingsyukon.com/event/arctic-indigenous-investment-conference-2026/
LOCATION:Kwanlin Dun Cultural Centre\, Whitehorse\, Canada
END:VEVENT
BEGIN:VEVENT
DTSTART;VALUE=DATE:20260514
DTEND;VALUE=DATE:20260519
DTSTAMP:20260422T175958
CREATED:20250701T025935Z
LAST-MODIFIED:20250829T233215Z
UID:10000495-1778778000-1779080399@staging.meetingsyukon.com
SUMMARY:Rotary District 5370 Conference
DESCRIPTION:Whitehorse\, Yukon. 300 Delegates. \n  \n“District Governor Ramesh Ferris and the entire conference team\nwelcome you to Whitehorse on May 15-17\, 2026 for the Rotary\nDistrict 5370 Conference. We can’t wait to see you there!”
URL:https://staging.meetingsyukon.com/event/rotary-district-5370-conference/
END:VEVENT
BEGIN:VEVENT
DTSTART;VALUE=DATE:20260523
DTEND;VALUE=DATE:20260531
DTSTAMP:20260422T175958
CREATED:20250122T073250Z
LAST-MODIFIED:20250122T073250Z
UID:10000482-1779555600-1780117199@staging.meetingsyukon.com
SUMMARY:20th Association of Canada Lands Surveyors (ACLS) Conference
DESCRIPTION:Whitehorse\, Yukon. \n175 delegates.
URL:https://staging.meetingsyukon.com/event/20th-association-of-canada-lands-surveyors-acls-conference/
END:VEVENT
BEGIN:VEVENT
DTSTART;VALUE=DATE:20260526
DTEND;VALUE=DATE:20260530
DTSTAMP:20260422T175958
CREATED:20260316T145105Z
LAST-MODIFIED:20260316T145105Z
UID:10000507-1779753600-1780099199@staging.meetingsyukon.com
SUMMARY:Western Canada Association of Lifeline Programs (WCALP) Conference
DESCRIPTION:Whitehorse\, Yukon\, 20 Delegates
URL:https://staging.meetingsyukon.com/event/western-canada-association-of-lifeline-programs-wcalp-conference/
END:VEVENT
END:VCALENDAR