BEGIN:VCALENDAR
VERSION:2.0
PRODID:-//Yukon Convention Bureau - ECPv6.15.20//NONSGML v1.0//EN
CALSCALE:GREGORIAN
METHOD:PUBLISH
X-ORIGINAL-URL:https://staging.meetingsyukon.com
X-WR-CALDESC:Events for Yukon Convention Bureau
REFRESH-INTERVAL;VALUE=DURATION:PT1H
X-Robots-Tag:noindex
X-PUBLISHED-TTL:PT1H
BEGIN:VTIMEZONE
TZID:America/Whitehorse
BEGIN:STANDARD
TZOFFSETFROM:-0700
TZOFFSETTO:-0700
TZNAME:MST
DTSTART:20260101T000000
END:STANDARD
END:VTIMEZONE
BEGIN:VEVENT
DTSTART;VALUE=DATE:20270523
DTEND;VALUE=DATE:20270601
DTSTAMP:20260423T044840
CREATED:20260122T160949Z
LAST-MODIFIED:20260122T160949Z
UID:10000505-1811030400-1811807999@staging.meetingsyukon.com
SUMMARY:Engineers Canada Annual General Meeting
DESCRIPTION:Whitehorse\, Yukon. 200 delegates.
URL:https://staging.meetingsyukon.com/event/engineers-canada-annual-general-meeting/
END:VEVENT
END:VCALENDAR