BEGIN:VCALENDAR
VERSION:2.0
PRODID:-//Yukon Convention Bureau - ECPv6.15.20//NONSGML v1.0//EN
CALSCALE:GREGORIAN
METHOD:PUBLISH
X-WR-CALNAME:Yukon Convention Bureau
X-ORIGINAL-URL:https://staging.meetingsyukon.com
X-WR-CALDESC:Events for Yukon Convention Bureau
REFRESH-INTERVAL;VALUE=DURATION:PT1H
X-Robots-Tag:noindex
X-PUBLISHED-TTL:PT1H
BEGIN:VTIMEZONE
TZID:America/Whitehorse
BEGIN:DAYLIGHT
TZOFFSETFROM:-0800
TZOFFSETTO:-0700
TZNAME:PDT
DTSTART:20190310T100000
END:DAYLIGHT
BEGIN:STANDARD
TZOFFSETFROM:-0700
TZOFFSETTO:-0800
TZNAME:PST
DTSTART:20191103T090000
END:STANDARD
BEGIN:DAYLIGHT
TZOFFSETFROM:-0800
TZOFFSETTO:-0700
TZNAME:PDT
DTSTART:20200308T100000
END:DAYLIGHT
BEGIN:STANDARD
TZOFFSETFROM:-0700
TZOFFSETTO:-0700
TZNAME:MST
DTSTART:20201101T070000
END:STANDARD
END:VTIMEZONE
BEGIN:VEVENT
DTSTART;VALUE=DATE:20260222
DTEND;VALUE=DATE:20260227
DTSTAMP:20260422T195919
CREATED:20251125T032238Z
LAST-MODIFIED:20251125T032238Z
UID:10000422-1771779600-1772081999@staging.meetingsyukon.com
SUMMARY:Arctic Summit
DESCRIPTION:Whitehorse\, Yukon. \nHosted in partnership with Whitehorse Chamber of Commerce. \n\n\nArctic Summit 2026: Securing Sovereignty and Investment will bring together northern and circumpolar leaders to address the most pressing issues facing the Arctic today. Set against a backdrop of geopolitical change and economic opportunity\, the Summit will focus on sovereignty\, security\, infrastructure\, and critical resources—advancing a vision for a resilient and self-determined North. Delegates will engage in strategic dialogue and collaboration that places northern leadership at the center of Arctic development and global relevance. \n\n\n\n\nHosted in Whitehorse\, Yukon\, February 23–25\, 2026\, the Summit will convene governments\, Indigenous leaders\, businesses\, and partners from across the Arctic and beyond. Registration opens October 2025—check back for updates to be among the first to secure your place at this landmark gathering.
URL:https://staging.meetingsyukon.com/event/arctic-summit/
LOCATION:Kwanlin Dun Cultural Centre\, Whitehorse\, Canada
END:VEVENT
BEGIN:VEVENT
DTSTART;VALUE=DATE:20251115
DTEND;VALUE=DATE:20251121
DTSTAMP:20260422T195919
CREATED:20251117T234445Z
LAST-MODIFIED:20251117T234500Z
UID:10000421-1763226000-1763614799@staging.meetingsyukon.com
SUMMARY:Yukon Geoscience forum & Tradeshow
DESCRIPTION:Whitehorse\, Yukon \n 
URL:https://staging.meetingsyukon.com/event/yukon-geoscience-forum-tradeshow/
LOCATION:Kwanlin Dun Cultural Centre\, Whitehorse\, Canada
END:VEVENT
BEGIN:VEVENT
DTSTART;VALUE=DATE:20251103
DTEND;VALUE=DATE:20251106
DTSTAMP:20260422T195919
CREATED:20250918T232403Z
LAST-MODIFIED:20250918T232543Z
UID:10000500-1762189200-1762318799@staging.meetingsyukon.com
SUMMARY:YSPOR Health Summit 2025
DESCRIPTION:Whitehorse\, Yukon. \n  \nWe are excited to welcome you to our 4th Annual YSPOR Health Summit on Tuesday\, November 4\, 2025. Our theme this year is Collaborating in a Good Way\, and we have another wonderful lineup of speakers and wellness activities programmed for you this year. \nWe are honoured to welcome our Keynote Speaker\, Dr. Jaris Swidrovich to our 2025 Summit.Dr. Jaris Swidrovich\, BSP\, PharmD\, PhD\, AAHIVP\, RPh (he/they) is an Assistant Professor\, Tenure Stream\, and Indigenous Engagement Lead in the Leslie Dan Faculty of Pharmacy at the University of Toronto. He is a queer\, Two Spirit\, Saulteaux and Ukrainian pharmacist from Yellow Quill First Nation (Treaty 4 territory\, Saskatchewan). His mother was a 60s Scoop survivor and his grandmother and great-grandmother both survived Indian Residential Schools.We look forward to seeing you on November 4! \nThank you for registering. We look forward to seeing you on November 4\, 2025.
URL:https://staging.meetingsyukon.com/event/yspor-health-summit-2025/
LOCATION:Kwanlin Dun Cultural Centre\, Whitehorse\, Canada
END:VEVENT
BEGIN:VEVENT
DTSTART;VALUE=DATE:20250917
DTEND;VALUE=DATE:20250921
DTSTAMP:20260422T195919
CREATED:20250919T222544Z
LAST-MODIFIED:20250919T222544Z
UID:10000501-1758128400-1758344399@staging.meetingsyukon.com
SUMMARY:The Indigenous Pharmacy Synergies Symposium
DESCRIPTION:Whitehorse\, Yukon \n50 Delegates. \n 
URL:https://staging.meetingsyukon.com/event/the-indigenous-pharmacy-synergies-symposium/
LOCATION:Kwanlin Dun Cultural Centre\, Whitehorse\, Canada
END:VEVENT
BEGIN:VEVENT
DTSTART;VALUE=DATE:20250523
DTEND;VALUE=DATE:20250527
DTSTAMP:20260422T195919
CREATED:20250212T234930Z
LAST-MODIFIED:20250212T234952Z
UID:10000484-1748019600-1748235599@staging.meetingsyukon.com
SUMMARY:2025 Regional Women’s Conference: “Flourishing or Flatlining or Floundering”
DESCRIPTION:We are thrilled to inform members that the 2025 PSAC North Regional Women’s Conferencewill be on held May 24 and 25 at the Kwanlin Dün Cultural Centre in Whitehorse\, Yukon. \nThis fully-funded event is open to all PSAC members in good standing in the North Region who self-identify as Women.
URL:https://staging.meetingsyukon.com/event/2025-regional-womens-conference-flourishing-or-flatlining-or-floundering/
LOCATION:Kwanlin Dun Cultural Centre\, Whitehorse\, Canada
END:VEVENT
BEGIN:VEVENT
DTSTART;VALUE=DATE:20250511
DTEND;VALUE=DATE:20250519
DTSTAMP:20260422T195919
CREATED:20241212T222522Z
LAST-MODIFIED:20241212T222522Z
UID:10000477-1746982800-1747544399@staging.meetingsyukon.com
SUMMARY:Environment Funders Canada
DESCRIPTION:Whitehorse\, Yukon. \n100 delegates. \n 
URL:https://staging.meetingsyukon.com/event/environment-funders-canada/
LOCATION:Kwanlin Dun Cultural Centre\, Whitehorse\, Canada
END:VEVENT
BEGIN:VEVENT
DTSTART;VALUE=DATE:20250504
DTEND;VALUE=DATE:20250509
DTSTAMP:20260422T195919
CREATED:20250115T042348Z
LAST-MODIFIED:20250115T042424Z
UID:10000480-1746378000-1746680399@staging.meetingsyukon.com
SUMMARY:Arctic Indigenous Investment Conference
DESCRIPTION:Whitehorse\, Yukon.
URL:https://staging.meetingsyukon.com/event/arctic-indigenous-investment-conference-2/
LOCATION:Kwanlin Dun Cultural Centre\, Whitehorse\, Canada
END:VEVENT
BEGIN:VEVENT
DTSTART;VALUE=DATE:20250324
DTEND;VALUE=DATE:20250330
DTSTAMP:20260422T195919
CREATED:20250212T235649Z
LAST-MODIFIED:20250212T235717Z
UID:10000486-1742835600-1743224399@staging.meetingsyukon.com
SUMMARY:2025 Renewables in Remote Communities Conference
DESCRIPTION:The Pembina Institute is honoured to host the Renewables in Remote Communities Conference 2025 (RiRC2025) on the shared traditional territory of Kwanlin Dün First Nation and Ta’an Kwäch’än Council in Whitehorse\, Yukon. \nDuring RiRC2025 a wide range of Indigenous leaders\, governments\, industry\, utilities and more will come together for dialogue on renewable energy development and clean energy opportunities in remote Indigenous communities across Canada. With the goal of accelerating and supporting an Indigenous-led transition to clean energy\, the conference serves as a forum for exchange\, networking and capacity-building.
URL:https://staging.meetingsyukon.com/event/2025-renewables-in-remote-communities-conference/
LOCATION:Kwanlin Dun Cultural Centre\, Whitehorse\, Canada
END:VEVENT
BEGIN:VEVENT
DTSTART;VALUE=DATE:20250224
DTEND;VALUE=DATE:20250228
DTSTAMP:20260422T195919
CREATED:20250213T000453Z
LAST-MODIFIED:20250213T000453Z
UID:10000488-1740416400-1740632399@staging.meetingsyukon.com
SUMMARY:6th Annual First Nation Education Conference
DESCRIPTION:Whitehorse\, Yukon. \nThis year’s theme: Connecting Heart\, Hands and Head \nCONFERENCE \nWe have two full days of exciting\, interactive guest speakers and workshops\, including keynotes: Len Pierre (Coast Salish social activist\, professor\, TEDx Speaker\, change agent and traditional knowledge keeper)\, and Jo Chrona (educator\, speaker\, author of Wayi Wah! Indigenous Pedagogies: An act for Reconciliation and Anti-Racist Education and member of the Kitsumkalum First Nation). Check out the full agenda of speakers and breakout sessions below. Registration: no cost.
URL:https://staging.meetingsyukon.com/event/6th-annual-first-nation-education-conference/
LOCATION:Kwanlin Dun Cultural Centre\, Whitehorse\, Canada
END:VEVENT
BEGIN:VEVENT
DTSTART;VALUE=DATE:20250127
DTEND;VALUE=DATE:20250201
DTSTAMP:20260422T195919
CREATED:20250212T235254Z
LAST-MODIFIED:20250212T235254Z
UID:10000485-1737997200-1738299599@staging.meetingsyukon.com
SUMMARY:Yukon North Slope Conference 2025: Indigenous Conservation Economies
DESCRIPTION:Welcome to the 11th Yukon North Slope Conference\nThe Wildlife Management Advisory Council (North Slope)\, with support from the Government of Yukon\, holds the honour of hosting the Yukon North Slope Conference every five years\, per the Inuvialuit Final Agreement. It is an exciting opportunity to bring people together around leading edge issues of conservation and management for the Yukon North Slope and beyond. \nIn January 2025\, we will be gathering on the theme of Indigenous Conservation Economies. We hope you’ll join us in this conversation.
URL:https://staging.meetingsyukon.com/event/yukon-north-slope-conference-2025-indigenous-conservation-economies/
LOCATION:Kwanlin Dun Cultural Centre\, Whitehorse\, Canada
END:VEVENT
BEGIN:VEVENT
DTSTART;VALUE=DATE:20240625
DTEND;VALUE=DATE:20240706
DTSTAMP:20260422T195919
CREATED:20231216T045930Z
LAST-MODIFIED:20231216T045930Z
UID:10000472-1719334800-1720155599@staging.meetingsyukon.com
SUMMARY:Adäka Cultural Festival
DESCRIPTION:Whitehorse\, Yukon.
URL:https://staging.meetingsyukon.com/event/adaka-cultural-festival-3/
LOCATION:Kwanlin Dun Cultural Centre\, Whitehorse\, Canada
END:VEVENT
BEGIN:VEVENT
DTSTART;VALUE=DATE:20240607
DTEND;VALUE=DATE:20240614
DTSTAMP:20260422T195919
CREATED:20231216T045628Z
LAST-MODIFIED:20231216T045628Z
UID:10000471-1717779600-1718254799@staging.meetingsyukon.com
SUMMARY:International Conference on Mars Polar Science and Exploration 2024
DESCRIPTION:Whitehorse\, Yukon.
URL:https://staging.meetingsyukon.com/event/international-conference-on-mars-polar-science-and-exploration-2024/
LOCATION:Kwanlin Dun Cultural Centre\, Whitehorse\, Canada
END:VEVENT
BEGIN:VEVENT
DTSTART;VALUE=DATE:20240505
DTEND;VALUE=DATE:20240510
DTSTAMP:20260422T195919
CREATED:20231216T044749Z
LAST-MODIFIED:20231216T044749Z
UID:10000470-1714928400-1715230799@staging.meetingsyukon.com
SUMMARY:Arctic Indigenous Investment Conference 2024
DESCRIPTION:Whitehorse\, Yukon.
URL:https://staging.meetingsyukon.com/event/arctic-indigenous-investment-conference-2024/
LOCATION:Kwanlin Dun Cultural Centre\, Whitehorse\, Canada
END:VEVENT
BEGIN:VEVENT
DTSTART;VALUE=DATE:20240305
DTEND;VALUE=DATE:20240308
DTSTAMP:20260422T195919
CREATED:20240119T022549Z
LAST-MODIFIED:20240119T022605Z
UID:10000394-1709658000-1709787599@staging.meetingsyukon.com
SUMMARY:The Yukon's 2024 Industry Conference: Shaping the Future
DESCRIPTION:Whitehorse\, Yukon \n 
URL:https://staging.meetingsyukon.com/event/the-yukons-2024-industry-conference-shaping-the-future/
LOCATION:Kwanlin Dun Cultural Centre\, Whitehorse\, Canada
END:VEVENT
BEGIN:VEVENT
DTSTART;VALUE=DATE:20240204
DTEND;VALUE=DATE:20240212
DTSTAMP:20260422T195919
CREATED:20231205T003741Z
LAST-MODIFIED:20231205T003819Z
UID:10000469-1707066000-1707627599@staging.meetingsyukon.com
SUMMARY:Northern Wildlife Roundtable
DESCRIPTION:Whitehorse\, Yukon. 35 Delegates. \n\n\n\nNorthern Wildlife Roundtable\, which is a diverse collective of First Nations\, BC government and stakeholders who are meeting after a few years absence to re-establish the table and develop their stewardship vision together.
URL:https://staging.meetingsyukon.com/event/northern-wildlife-roundtable/
LOCATION:Kwanlin Dun Cultural Centre\, Whitehorse\, Canada
END:VEVENT
BEGIN:VEVENT
DTSTART;VALUE=DATE:20231102
DTEND;VALUE=DATE:20231107
DTSTAMP:20260422T195919
CREATED:20230331T020415Z
LAST-MODIFIED:20230331T020415Z
UID:10000451-1698944400-1699246799@staging.meetingsyukon.com
SUMMARY:Yukon Medical Association AGM & CPD Update
DESCRIPTION:Whitehorse – \n2023 Dates & Venue\nAnnual General Meeting:  Fri\, November 3\, 2023\nContinuing Professional Development (CPD):  Sat/Sun\, November 4/5\, 2023\nKwanlin Dün Cultural Centre\n1171 Front Street\, Whitehorse YT  Y1A 0G9 \nOnline Registration\nRegistration will open Fall 2023 \nCPD Speakers\nTO BE ANNOUNCED….
URL:https://staging.meetingsyukon.com/event/yukon-medical-association-agm-cpd-update/
LOCATION:Kwanlin Dun Cultural Centre\, Whitehorse\, Canada
END:VEVENT
BEGIN:VEVENT
DTSTART;VALUE=DATE:20231017
DTEND;VALUE=DATE:20231021
DTSTAMP:20260422T195919
CREATED:20230331T232219Z
LAST-MODIFIED:20230331T232219Z
UID:10000454-1697562000-1697777999@staging.meetingsyukon.com
SUMMARY:BC Water & Waste Association (BCWWA) Yukon Water & Wastewater Workshop & Trade Show
DESCRIPTION:Whitehorse – 100 delegates
URL:https://staging.meetingsyukon.com/event/bc-water-waste-association-bcwwa-yukon-water-wastewater-workshop-trade-show/
LOCATION:Kwanlin Dun Cultural Centre\, Whitehorse\, Canada
END:VEVENT
BEGIN:VEVENT
DTSTART;VALUE=DATE:20230909
DTEND;VALUE=DATE:20230914
DTSTAMP:20260422T195919
CREATED:20230331T231629Z
LAST-MODIFIED:20230331T231629Z
UID:10000453-1694278800-1694581199@staging.meetingsyukon.com
SUMMARY:CCPAC-CCOLA Conference
DESCRIPTION:Whitehorse – 100 delegates
URL:https://staging.meetingsyukon.com/event/ccpac-ccola-conference/
LOCATION:Kwanlin Dun Cultural Centre\, Whitehorse\, Canada
END:VEVENT
BEGIN:VEVENT
DTSTART;VALUE=DATE:20230628
DTEND;VALUE=DATE:20230707
DTSTAMP:20260422T195919
CREATED:20230331T014644Z
LAST-MODIFIED:20230331T014644Z
UID:10000448-1687971600-1688619599@staging.meetingsyukon.com
SUMMARY:Adäka Cultural Festival
DESCRIPTION:Whitehorse – \n\n\nJune 29 – July 5\, 2023\n\n\n\n\nShine a light on the creative spirit of Yukon First Nations people\n\nThe Adäka Cultural Festival was launched in July 2011\, with a mission to develop and deliver a world-class\, iconic festival that showcases\, celebrates\, and fosters the development of Yukon’s diverse and distinctive First Nations arts and culture. \nAdäka means “coming into the light” in the Southern Tutchone language. The Festival is committed to shining a light on the creative spirit of Yukon First Nations people\, helping to preserve and revitalize our arts and culture\, while inspiring artists and youth to take pride in their heritage and communities. \nAt Adaka Cultural Festival\, you are more than just a visitor\, you are a participant. Indigenous artists from across Yukon and beyond\, gather together in the spirit of artistic collaboration and celebration. With over 40 hands on workshops\, a professional gallery\, live performances and cultural presentations\, this world class festival offers something for everyone to learn from and enjoy.
URL:https://staging.meetingsyukon.com/event/adaka-cultural-festival-2/
LOCATION:Kwanlin Dun Cultural Centre\, Whitehorse\, Canada
END:VEVENT
BEGIN:VEVENT
DTSTART;VALUE=DATE:20230514
DTEND;VALUE=DATE:20230521
DTSTAMP:20260422T195919
CREATED:20221208T045818Z
LAST-MODIFIED:20230331T015909Z
UID:10000443-1684083600-1684558799@staging.meetingsyukon.com
SUMMARY:Equal Futures 2023: A Gender Equality Summit
DESCRIPTION:200-250 Delegates \nKwanlin Dun Cultural Centre \nWhitehorse\, Yukon
URL:https://staging.meetingsyukon.com/event/equal-future-network/
LOCATION:Kwanlin Dun Cultural Centre\, Whitehorse\, Canada
END:VEVENT
BEGIN:VEVENT
DTSTART;VALUE=DATE:20230508
DTEND;VALUE=DATE:20230512
DTSTAMP:20260422T195919
CREATED:20230331T013144Z
LAST-MODIFIED:20230331T013156Z
UID:10000446-1683565200-1683781199@staging.meetingsyukon.com
SUMMARY:Arctic Indigenous Investment Conference (AIIC)
DESCRIPTION:Whitehorse – Our 6th Annual Arctic Indigenous Investment Conference will highlight Indigenous development corporations and businesses along with partners from all sectors of the northern economy. The goal of the 2023 AIIC Conference is to continue our collective work towards true economic reconciliation by connecting people from across the Arctic to share success stories\, support entrepreneurship\, develop stronger partnerships\, and forge new relationships. When Indigenous businesses—from large corporations to individual artisans—work collaboratively across the North\, we can build diverse and prosperous economies\, communities\, and futures for all. \nhttps://yfncc.ca/aiic2023/
URL:https://staging.meetingsyukon.com/event/arctic-indigenous-investment-conference-aiic/
LOCATION:Kwanlin Dun Cultural Centre\, Whitehorse\, Canada
END:VEVENT
BEGIN:VEVENT
DTSTART;VALUE=DATE:20221016
DTEND;VALUE=DATE:20221023
DTSTAMP:20260422T195920
CREATED:20210928T033856Z
LAST-MODIFIED:20210928T033856Z
UID:10000434-1665939600-1666457999@staging.meetingsyukon.com
SUMMARY:La Fédération nationale des conseils scolaires francophones (FNCSF)
DESCRIPTION:October 17-22\, 2022. 160 delegates. Whitehorse\, Yukon. \n\n\n\nThe Fédération nationale des conseils scolaires francophones (National Federation of French-Language School Boards – FNCSF) represents French-language school boards in Canada outside the province of Quebec. \n\nYukon is home to 3 francophone/french-language schools.
URL:https://staging.meetingsyukon.com/event/la-federation-nationale-des-conseils-scolaires-francophones-fncsf/
LOCATION:Kwanlin Dun Cultural Centre\, Whitehorse\, Canada
END:VEVENT
BEGIN:VEVENT
DTSTART;VALUE=DATE:20200928
DTEND;VALUE=DATE:20201001
DTSTAMP:20260422T195920
CREATED:20200407T004517Z
LAST-MODIFIED:20200804T000606Z
UID:10000427-1601312400-1601485199@staging.meetingsyukon.com
SUMMARY:Alaska Wood Energy Conference*POSTPONED to May 2021
DESCRIPTION:September 29-30\, 2020 \n75 delegates. \nThis conference will feature Case Studies from the Yukon as well as Alaska\, latest technologies and presentations by the Task 32 of the IEA (International Energy Agency) Bioenergy Program \nFor more information: \nKaren Petersen\nBiomass Coordinator\nbiomass@seconference.org\n(907) 401 3234
URL:https://staging.meetingsyukon.com/event/alaska-wood-energy-conference/
LOCATION:Kwanlin Dun Cultural Centre\, Whitehorse\, Canada
END:VEVENT
END:VCALENDAR