BEGIN:VCALENDAR
VERSION:2.0
PRODID:-//Yukon Convention Bureau - ECPv6.15.20//NONSGML v1.0//EN
CALSCALE:GREGORIAN
METHOD:PUBLISH
X-ORIGINAL-URL:https://staging.meetingsyukon.com
X-WR-CALDESC:Events for Yukon Convention Bureau
REFRESH-INTERVAL;VALUE=DURATION:PT1H
X-Robots-Tag:noindex
X-PUBLISHED-TTL:PT1H
BEGIN:VTIMEZONE
TZID:America/Whitehorse
BEGIN:DAYLIGHT
TZOFFSETFROM:-0800
TZOFFSETTO:-0700
TZNAME:PDT
DTSTART:20130310T100000
END:DAYLIGHT
BEGIN:STANDARD
TZOFFSETFROM:-0700
TZOFFSETTO:-0800
TZNAME:PST
DTSTART:20131103T090000
END:STANDARD
BEGIN:DAYLIGHT
TZOFFSETFROM:-0800
TZOFFSETTO:-0700
TZNAME:PDT
DTSTART:20140309T100000
END:DAYLIGHT
BEGIN:STANDARD
TZOFFSETFROM:-0700
TZOFFSETTO:-0800
TZNAME:PST
DTSTART:20141102T090000
END:STANDARD
BEGIN:DAYLIGHT
TZOFFSETFROM:-0800
TZOFFSETTO:-0700
TZNAME:PDT
DTSTART:20150308T100000
END:DAYLIGHT
BEGIN:STANDARD
TZOFFSETFROM:-0700
TZOFFSETTO:-0800
TZNAME:PST
DTSTART:20151101T090000
END:STANDARD
END:VTIMEZONE
BEGIN:VEVENT
DTSTART;TZID=America/Whitehorse:20141030T180000
DTEND;TZID=America/Whitehorse:20141030T210000
DTSTAMP:20260422T233058
CREATED:20140430T034829Z
LAST-MODIFIED:20140430T034829Z
UID:10000283-1414692000-1414702800@staging.meetingsyukon.com
SUMMARY:Rendezvous Rotary Club Wine & Fine Food Festival - Oct 30\, 2014
DESCRIPTION:Thursday\, October 30th from 6 – 9 p.m. in the Yukon Convention Centre.  Tickets will go on sale in late August ($60 from 7 – 9 p.m. and 100 limited tickets at $90 for early admission at 6 p.m.)
URL:https://staging.meetingsyukon.com/event/rendezvous-rotary-club-wine-fine-food-festival-oct-30-2014/
LOCATION:Yukon Convention Centre\, Canada
END:VEVENT
END:VCALENDAR